BEGIN:VCALENDAR
VERSION:2.0
PRODID:-//https://visionaryperformingarts.ca///NONSGML kigkonsult.se iCalcreator 2.10.15//
METHOD:PUBLISH
BEGIN:VEVENT
UID:20260423T111901CDT-0338edoScz@https://visionaryperformingarts.ca/
DTSTAMP:20260423T161901Z
DESCRIPTION:5:00PM-6:30PM\, Edmonton Cast A • 7:00PM- 8:30PM\, Edmonton Cas
 t Do https://visionaryperformingarts.ca/tickets-events/events/event/90-rid
 e-the-cyclone-vcpa-teens-adv-production-2026-thurs-april-23rd
DTSTART:20260423T230000Z
DTEND:20260424T033000Z
LOCATION:Chromozone (Back Door Parking Lot Entrance Only\, 7217 77 Ave NW\,
  Edmonton\, AB T6B 0B5\, Canada)
SUMMARY:Ride the Cyclone\, VCPA Teens Adv. Production 2026 • Thurs. April 2
 3rd
URL:https://visionaryperformingarts.ca/tickets-events/events/event/90-ride-
 the-cyclone-vcpa-teens-adv-production-2026-thurs-april-23rd
END:VEVENT
END:VCALENDAR
